BEGIN:VCALENDAR
VERSION:2.0
PRODID:-//Maisey Harris &amp; Co - ECPv6.15.14//NONSGML v1.0//EN
CALSCALE:GREGORIAN
METHOD:PUBLISH
X-ORIGINAL-URL:https://mhco.co.nz
X-WR-CALDESC:Events for Maisey Harris &amp; Co
REFRESH-INTERVAL;VALUE=DURATION:PT1H
X-Robots-Tag:noindex
X-PUBLISHED-TTL:PT1H
BEGIN:VTIMEZONE
TZID:Pacific/Auckland
BEGIN:STANDARD
TZOFFSETFROM:+1300
TZOFFSETTO:+1200
TZNAME:NZST
DTSTART:20230401T140000
END:STANDARD
BEGIN:DAYLIGHT
TZOFFSETFROM:+1200
TZOFFSETTO:+1300
TZNAME:NZDT
DTSTART:20230923T140000
END:DAYLIGHT
BEGIN:STANDARD
TZOFFSETFROM:+1300
TZOFFSETTO:+1200
TZNAME:NZST
DTSTART:20240406T140000
END:STANDARD
BEGIN:DAYLIGHT
TZOFFSETFROM:+1200
TZOFFSETTO:+1300
TZNAME:NZDT
DTSTART:20240928T140000
END:DAYLIGHT
BEGIN:STANDARD
TZOFFSETFROM:+1300
TZOFFSETTO:+1200
TZNAME:NZST
DTSTART:20250405T140000
END:STANDARD
BEGIN:DAYLIGHT
TZOFFSETFROM:+1200
TZOFFSETTO:+1300
TZNAME:NZDT
DTSTART:20250927T140000
END:DAYLIGHT
END:VTIMEZONE
BEGIN:VEVENT
DTSTART;TZID=Pacific/Auckland:20240912T100000
DTEND;TZID=Pacific/Auckland:20240912T113000
DTSTAMP:20260421T221701
CREATED:20240718T032938Z
LAST-MODIFIED:20240801T012927Z
UID:10000025-1726135200-1726140600@mhco.co.nz
SUMMARY:Redefining Success
DESCRIPTION:The last few years have definitely been difficult.. especially for business owners.  Business success may now look different to what it looked like in the pre-covid environment.  Now is the time to redefine what success looks like for you\, your business\, your team\, and reset your plan to achieve this. \nThis workshop\, Redefining Success\, will take you through the strategies to increase your profit and cashflow while maintaining a healthy workplace balance and culture. \nLed by Matt Solomona\, he has successfully guided his team through the global pandemic\, ensuring they emerged stronger and continued to achieve success. \nLearning outcomes from this workshop: \n\nDiscover new ways of defining success\nLearn how to calculate your minimum viable sales\nIdentify strategies to grow profit and cashflow\nUnderstand how to create a smart and healthy business\nLearn how to develop a plan for sustainable business success\n\n\n\n\n\n\n\nFor just $40\, you’ll leave with strategies to redefine and achieve your vision of success.
URL:https://mhco.co.nz/event/redefining-success/
LOCATION:BNZ Partners Centre Tauranga\, 639 Cameron Road\, Tauranga\, 3112\, New Zealand
CATEGORIES:Tauranga
ATTACH;FMTTYPE=image/png:https://mhco.co.nz/wp-content/uploads/redefining-succes-700-x-500-px-1.png
END:VEVENT
BEGIN:VEVENT
DTSTART;TZID=Pacific/Auckland:20240725T100000
DTEND;TZID=Pacific/Auckland:20240725T113000
DTSTAMP:20260421T221701
CREATED:20240709T214744Z
LAST-MODIFIED:20240715T224852Z
UID:10000015-1721901600-1721907000@mhco.co.nz
SUMMARY:Cashflow Freedom
DESCRIPTION:Is your business turning a profit\, but you’re still wondering where the cash is in your business? \nFrom understanding your breakeven point\, reducing cost of sales\, and boosting cash stocks\, there are strategies that you can be implementing to better prepare for an economic downturn and achieve cashflow freedom. \nJoin us for our next workshop – Achieving Cashflow Freedom. This workshop will help you discover where the cash goes in your business and teach you how to better manage your cash to achieve cashflow freedom. \nBrittney Benn will take you through the essential steps you need to know to achieve cashflow freedom. By attending this workshop\, you’ll: \n\nKnow the difference between profit and cash\nLearn how to prepare for economic downturns\nDiscover how increase your leads\, conversion rate\, and transaction value\nUnderstand how measuring helps improve management\nDiscover where the cash goes in your business\n\n  \nRegister here: \n\n                    Cashflow FreedomΔ First NameLast NameEmailPhone/MobileBusiness NamePayment ItemPrice: $40.00QuantityPayment Method Pay with Card (Stripe) Offline PaymentPay with Card (Stripe)Submit Form
URL:https://mhco.co.nz/event/cashflow-freedom/
LOCATION:BNZ Partners Centre Tauranga\, 639 Cameron Road\, Tauranga\, 3112\, New Zealand
CATEGORIES:Tauranga
ATTACH;FMTTYPE=image/png:https://mhco.co.nz/wp-content/uploads/Cashflow-Freedom-700-x-500-px.png
END:VEVENT
BEGIN:VEVENT
DTSTART;TZID=Pacific/Auckland:20240530T093000
DTEND;TZID=Pacific/Auckland:20240530T103000
DTSTAMP:20260421T221701
CREATED:20240501T233942Z
LAST-MODIFIED:20240507T014749Z
UID:10000002-1717061400-1717065000@mhco.co.nz
SUMMARY:Navigating the 10 Hats: Strategies for Mindset\, Capacity\, and Leverage in Business
DESCRIPTION:Is running your business overwhelming at times? Are you finding yourself spread too thin? \nRunning a business doesn’t mean you have to be a ‘Jack of all Trades’- there are strategies that you could be implementing so your entire team can be working smarter\, not harder! \nIn this session\, Matt will take you through the 10 Hats of every business – you’ll learn the functions and responsibilities of each hat so you can improve your organisation structure and establish where your time and skills are best used. \nBy attending this workshop\, you’ll: \n\nUnderstand the hats you’re wearing well and those you should remove\nLearn the function\, responsibility\, and performance expectation of each hat\nImplement strategies so your entire team work smarter\, not harder\nLearn how to free up your time and grow your business- without blowing yourself apart\n\nElevate the experience of running your business to align with the dream you originally envisioned – register for this workshop now!
URL:https://mhco.co.nz/event/navigating-the-10-hats-strategies-for-mindset-capacity-and-leverage-in-business/
LOCATION:BNZ Partners Centre Tauranga\, 639 Cameron Road\, Tauranga\, 3112\, New Zealand
CATEGORIES:Tauranga
ATTACH;FMTTYPE=image/png:https://mhco.co.nz/wp-content/uploads/Untitled-design-84.png
END:VEVENT
END:VCALENDAR